BEGIN:VCALENDAR
VERSION:2.0
PRODID:-//VIVANT 2020 - ECPv5.1.6//NONSGML v1.0//EN
CALSCALE:GREGORIAN
METHOD:PUBLISH
X-WR-CALNAME:VIVANT 2020
X-ORIGINAL-URL:https://www.vivant2020.com/?lang=en
X-WR-CALDESC:Events for VIVANT 2020
BEGIN:VTIMEZONE
TZID:Europe/Paris
BEGIN:DAYLIGHT
TZOFFSETFROM:+0100
TZOFFSETTO:+0200
TZNAME:CEST
DTSTART:20200329T010000
END:DAYLIGHT
BEGIN:STANDARD
TZOFFSETFROM:+0200
TZOFFSETTO:+0100
TZNAME:CET
DTSTART:20201025T010000
END:STANDARD
END:VTIMEZONE
BEGIN:VEVENT
DTSTART;TZID=Europe/Paris:20200531T160000
DTEND;TZID=Europe/Paris:20200531T233000
DTSTAMP:20260421T111953
CREATED:20200325T133801Z
LAST-MODIFIED:20200720T150403Z
UID:41268-1590940800-1590967800@www.vivant2020.com
SUMMARY:Un dimanche à Vernand
DESCRIPTION:En raison du contexte actuel\, la Ferme de Vernand a été contrainte d’annuler Un Dimanche à Vernand.  La prochaine édition aura lieu en 2021.  \nLa Ferme de Vernand\, ferme d’élevage bio\, organise une journée Art et paysages agricoles. \nSur le thème du vivant\, cette journée propose des ateliers pour toute la famille\, des rencontres d’artistes et découverte de leurs œuvres in situ\, buvette et petite restauration bio\, concert\, spectacle nocturne… de 16h à minuit ! \nActuellement\, la Ferme de Vernand propose un appel à projet sur ses raisons sociaux :  sur Facebook et sur Instagram.  \nImages : © Véronique Popinet / association POLYCULTURE
URL:https://www.vivant2020.com/event/un-dimanche-a-vernand/?lang=en
LOCATION:Ferme de Vernand\, 2378 chemin de Vernand\, FOURNEAUX\, 42470\, France
CATEGORIES:Family,Music,Show,workshop
ATTACH;FMTTYPE=image/jpeg:https://www.vivant2020.com/wp-content/uploads/2020/02/IMG_9991.jpg
ORGANIZER;CN="V%C3%A9ronique%20POPINET":MAILTO:contact@polyculture.fr
GEO:45.9203371;4.2497483
X-APPLE-STRUCTURED-LOCATION;VALUE=URI;X-ADDRESS=Ferme de Vernand 2378 chemin de Vernand FOURNEAUX 42470 France;X-APPLE-RADIUS=500;X-TITLE=2378 chemin de Vernand:geo:4.2497483,45.9203371
END:VEVENT
END:VCALENDAR