BEGIN:VCALENDAR
VERSION:2.0
PRODID:-//VIVANT 2020 - ECPv5.1.6//NONSGML v1.0//EN
CALSCALE:GREGORIAN
METHOD:PUBLISH
X-WR-CALNAME:VIVANT 2020
X-ORIGINAL-URL:https://www.vivant2020.com
X-WR-CALDESC:évènements pour VIVANT 2020
BEGIN:VTIMEZONE
TZID:Europe/Paris
BEGIN:DAYLIGHT
TZOFFSETFROM:+0100
TZOFFSETTO:+0200
TZNAME:CEST
DTSTART:20200329T010000
END:DAYLIGHT
BEGIN:STANDARD
TZOFFSETFROM:+0200
TZOFFSETTO:+0100
TZNAME:CET
DTSTART:20201025T010000
END:STANDARD
END:VTIMEZONE
BEGIN:VEVENT
DTSTART;VALUE=DATE:20200604
DTEND;VALUE=DATE:20200608
DTSTAMP:20260421T212631
CREATED:20200311T115600Z
LAST-MODIFIED:20200720T150104Z
UID:40314-1591228800-1591574399@www.vivant2020.com
SUMMARY:Présentation de fin de résidence et rencontre de l'artiste Raúl Cuevas
DESCRIPTION:En raison du confinement\, Dos Mares a dû temporairement suspendre ses activités et prévoit de reprogrammer le projet avec Raúl Cuevas à une date ultérieure.  \nTout territoire et travail génèrent vie et savoir. Savoir faire\, savoir mesurer\, savoir regarder\, compter\, tracer\, raconter\, cuisiner. Cette connaissance ne dépend pas tant de la finalité du travail mais de la manière dont elle façonne la vie quotidienne en donnant un cadre pour comprendre le territoire à partir de récits et de représentations de notre environnement. \nLe travail de Raúl Cuevas aborde la vie dans la périphérie et dans la campagne\, il s’appuie sur des écrits narratifs et descriptifs de notre relation avec notre contexte et les imaginaires. \nRaúl Cuevas vit et travail à Guadalajara\, Mexique. Il est lauréat du programme de résidences internationales Dos Mares 2020 en partenariat avec PAOS GDL. \nImages : © Raúl Cuevas 
URL:https://www.vivant2020.com/event/presentation-de-fin-de-residence-et-rencontre-de-lartiste-raul-cuevas/
LOCATION:Dos Mares\, 5 rue Vian\, Marseille\, 13006
ATTACH;FMTTYPE=image/png:https://www.vivant2020.com/wp-content/uploads/2020/01/Captura-de-pantalla-2020-01-15-a-las-15.31.15.png
ORGANIZER;CN="Dos%20Mares":MAILTO:info@2mares.org
GEO:43.2946794;5.383747
X-APPLE-STRUCTURED-LOCATION;VALUE=URI;X-ADDRESS=Dos Mares 5 rue Vian Marseille 13006;X-APPLE-RADIUS=500;X-TITLE=5 rue Vian:geo:5.383747,43.2946794
END:VEVENT
END:VCALENDAR