BEGIN:VCALENDAR
VERSION:2.0
PRODID:-//VIVANT 2020 - ECPv5.1.6//NONSGML v1.0//EN
CALSCALE:GREGORIAN
METHOD:PUBLISH
X-WR-CALNAME:VIVANT 2020
X-ORIGINAL-URL:https://www.vivant2020.com/?lang=en
X-WR-CALDESC:Events for VIVANT 2020
BEGIN:VTIMEZONE
TZID:Europe/Paris
BEGIN:DAYLIGHT
TZOFFSETFROM:+0100
TZOFFSETTO:+0200
TZNAME:CEST
DTSTART:20200329T010000
END:DAYLIGHT
BEGIN:STANDARD
TZOFFSETFROM:+0200
TZOFFSETTO:+0100
TZNAME:CET
DTSTART:20201025T010000
END:STANDARD
END:VTIMEZONE
BEGIN:VEVENT
DTSTART;VALUE=DATE:20200917
DTEND;VALUE=DATE:20201216
DTSTAMP:20260424T013751
CREATED:20200310T111220Z
LAST-MODIFIED:20200720T135041Z
UID:41337-1600300800-1608076799@www.vivant2020.com
SUMMARY:Per aspera ad astra
DESCRIPTION:En raison du contexte actuel\, l’exposition Per Aspera ad Astra a dû être annulée. Elle est reportée et aura lieu à partir du 17 septembre\, et jusqu’à une date en cours de confirmation.  \nIl est plus que probable que d’ici une vingtaine d’année\, nos enfants feuilletteront à leur tour\, devant leurs propres enfants un livre d’image animalier\, installés confortablement dans un canapé moelleux\, et devant les représentations colorées\, nommeront de la sorte les animaux :\n– C’était une baleine…\n– C’était un gorille…\n– C’était un tigre… \nPer aspera ad astra est une exposition\, création déployée par Pascal Marquilly et François Andes dans le cadre du programme de résidence AAA développée par le Groupe A – Coopérative culturelle. \nIl s’agit de la réalisation d’un coffret présentant un livret de 8 nouvelles illustrées et différentes planches animales dont les représentations disparaissent l’une après l’autre\, par des procédés de reproduction mécanique. \nCe coffret réunira donc 10 planches de tête et 16 déclinaisons imprimées selon différentes techniques (sérigraphie\, impression numérique jet d’encre\, cliché polymère\, dorure\, gauffrage\, découpe laser…)\, un livret présentant 8 nouvelles illustrées par des eaux fortes. L’ensemble trouvera place dans un coffret d’archivage muséal. \nL’exposition présente l’ensemble des planches originales et leurs déclinaisons\, ainsi que les nouvelles. \nCette création a eu lieu lors de résidences étalées sur l’année 2019\, au centre d’art Propaganda à Tbilissi (Géorgie)\, à l’atelier du livre d’art et de l’estampe de l’Imprimerie nationale\, au Techshop Leroy Merlin. \nFinancements : Région Hauts-de-France\, Atelier du livre d’art et de l’estampe de l’imprimerie nationale\, Techshop Leroy Merlin (Lille)\, Gutenberg Network \nPartenaires : Propaganda Network (Tbilissi\, Géorgie)\, Institut Français de Géorgie\, La Condition Publique (Roubaix\, France)\, Rigolatis (Lille\, France). \nImage à la une : © Pascal Marquilly et François Andes
URL:https://www.vivant2020.com/event/per-aspera-ad-astra/?lang=en
LOCATION:La Condition Publique\, 14\, place Faidherbe\, Roubaix\, 59100
CATEGORIES:Visual art
ATTACH;FMTTYPE=image/png:https://www.vivant2020.com/wp-content/uploads/2020/03/Capture-d’écran-2020-03-30-à-13.42.14.png
ORGANIZER;CN="Groupe%20A%20-%20Coop%C3%A9rative%20culturelle":MAILTO:contact@groupeacoop.org
GEO:50.6907377;3.1894921
X-APPLE-STRUCTURED-LOCATION;VALUE=URI;X-ADDRESS=La Condition Publique 14 place Faidherbe Roubaix 59100;X-APPLE-RADIUS=500;X-TITLE=14\, place Faidherbe:geo:3.1894921,50.6907377
END:VEVENT
END:VCALENDAR