BEGIN:VCALENDAR
VERSION:2.0
PRODID:-//VIVANT 2020 - ECPv5.1.6//NONSGML v1.0//EN
CALSCALE:GREGORIAN
METHOD:PUBLISH
X-WR-CALNAME:VIVANT 2020
X-ORIGINAL-URL:https://www.vivant2020.com
X-WR-CALDESC:évènements pour VIVANT 2020
BEGIN:VTIMEZONE
TZID:Europe/Paris
BEGIN:DAYLIGHT
TZOFFSETFROM:+0100
TZOFFSETTO:+0200
TZNAME:CEST
DTSTART:20200329T010000
END:DAYLIGHT
BEGIN:STANDARD
TZOFFSETFROM:+0200
TZOFFSETTO:+0100
TZNAME:CET
DTSTART:20201025T010000
END:STANDARD
END:VTIMEZONE
BEGIN:VEVENT
DTSTART;VALUE=DATE:20200604
DTEND;VALUE=DATE:20200626
DTSTAMP:20260421T230608
CREATED:20200325T133518Z
LAST-MODIFIED:20200720T150001Z
UID:36515-1591228800-1593129599@www.vivant2020.com
SUMMARY:Terres incultes
DESCRIPTION:En raison du contexte actuel\, l’exposition Terres incultes de Caroline Fonseca a été reportée\, du 4 au 25 juin 2020.  \nLe travail de Carolina Fonseca questionne les pratiques de vie individuelle du quotidien\, le cadre dans lequel elles apparaissent\, et la manière dont elles forgent les usages de la vie en collectif. Les questions laissées par l’ère du post-colonialisme et soulevées par celles des migrations actuelles\, sont au coeur de son travail. \nElle s’intéresse également aux activités qui cristallisent ces problématiques\, c’est à dire le travail\, le tourisme\, l’oisiveté\, le fait d’habiter un espace et les rapports de pouvoir.\nElle oscille\, en allant de l’intime au public\, de la fiction au réel\, de l’individu à la société\, de la chambre au paysage\, en traversant la maison\, la rue. Du passé au présent. Elle essaie d’estomper les bords\, de les redessiner et de questionner. \nSon vocabulaire emprunte l’esthétique des objets de la vie quotidienne\, obsolètes\, des choses dites insignifiantes. Elle se sers de matériaux de récupération\, peu coûteux\, précaires. Cela oriente son travail vers le volume et l’installation\, vers le geste\, vers le faire : moulage\, tissage\, assemblage. Ces gestes\, parfois méditatifs\, prennent de l’ampleur avec le temps et vont à l’encontre de l’engouement de la société actuels qui poussent à l’accélération\, la consommation et l’industrialisation. \nImage à la une : © Carolina Fonseca\nImage 1 : © Compost – Carolina Fonseca- 2018 \n 
URL:https://www.vivant2020.com/event/pepinieres-de-formes-sauvages-et-urbaines/
LOCATION:Octave Cowbell\, 5 rue des Parmentiers\, Metz\, 57000
CATEGORIES:Arts visuels
ATTACH;FMTTYPE=image/png:https://www.vivant2020.com/wp-content/uploads/2020/03/Capture-d’écran-2020-05-11-à-10.06.40.png
ORGANIZER;CN="Gandar%20Vanessa%20Directrice%20artistique":MAILTO:programmation@octavecowbell.fr
GEO:49.1158542;6.1770352
X-APPLE-STRUCTURED-LOCATION;VALUE=URI;X-ADDRESS=Octave Cowbell 5 rue des Parmentiers Metz 57000;X-APPLE-RADIUS=500;X-TITLE=5 rue des Parmentiers:geo:6.1770352,49.1158542
END:VEVENT
END:VCALENDAR