BEGIN:VCALENDAR
VERSION:2.0
PRODID:-//VIVANT 2020 - ECPv5.1.6//NONSGML v1.0//EN
CALSCALE:GREGORIAN
METHOD:PUBLISH
X-WR-CALNAME:VIVANT 2020
X-ORIGINAL-URL:https://www.vivant2020.com/?lang=en
X-WR-CALDESC:Events for VIVANT 2020
BEGIN:VTIMEZONE
TZID:Europe/Paris
BEGIN:DAYLIGHT
TZOFFSETFROM:+0100
TZOFFSETTO:+0200
TZNAME:CEST
DTSTART:20200329T010000
END:DAYLIGHT
BEGIN:STANDARD
TZOFFSETFROM:+0200
TZOFFSETTO:+0100
TZNAME:CET
DTSTART:20201025T010000
END:STANDARD
END:VTIMEZONE
BEGIN:VEVENT
DTSTART;TZID=Europe/Paris:20200607T100000
DTEND;TZID=Europe/Paris:20200607T130000
DTSTAMP:20260421T170638
CREATED:20200325T131328Z
LAST-MODIFIED:20200720T145806Z
UID:36666-1591524000-1591534800@www.vivant2020.com
SUMMARY:« Le Jardin\, refuge pour la biodiversité » : Accueillir et connaître la nature en ville
DESCRIPTION:En raison du contexte actuel\, l’événement “Le Jardin\, refuge pour la biodiversité” au Parc Foresta est en cours de reprogrammation. Cependant\, le Parc Foresta a ré-ouvert ses portes et est de nouveau accessible\, dans le respect des mesures sanitaires en vigueur.  \nLe Parc Foresta c’est 20 hectares de collines qui sont les remblais de la construction du centre commercial Grand Littoral\, au coeur des quartiers Nord à Marseille. Bénéficiant d’une carte blanche de la part du propriétaire du terrain (la société Résiliance)\, Yes We Camp est parti à la rencontre des riverains\, et accompagné par des acteurs locaux formidables comme Hôtel du Nord ou le collectif Safi\, ils sont en train d’imaginer collectivement comment transformer ces espaces vacants en un “parc métropolitain”\, un espace où l’on puisse bien sûr déambuler librement\, mais aussi apprendre\, rencontrer et exprimer ses talents. La méthode est itérative : on avance par une succession d’échanges\, d’ateliers sur site\, balades exploratoires\, événements festifs… et en parallèle\, on dessine les plans de construction d’une ferme\, d’un hameau productif et d’installations ludiques sur la colline. \nLe 7 juin 2020\, un atelier et une balade sont organisés de 10h à 13h pour découvrir la biodiversité du parc Foresta et croiser les disciplines : travail sur les plantes tinctoriales\, ateliers cuisines\, fabrication d’un herbier… \nImages : © Yes We Camp
URL:https://www.vivant2020.com/event/le-jardin-refuge-pour-la-biodiversite-accueillir-et-connaitre-la-nature-en-ville/?lang=en
LOCATION:Parc Foresta\, 20 boulevard d'Hanoi\, Marseille\, 13015
CATEGORIES:Ateliers
ATTACH;FMTTYPE=image/jpeg:https://www.vivant2020.com/wp-content/uploads/2020/02/34264751904_8f96de0cfa_o-scaled.jpg
ORGANIZER;CN="Yes%20We%20Camp":MAILTO:lea@yeswecamp.org
GEO:43.3579136;5.3559587
X-APPLE-STRUCTURED-LOCATION;VALUE=URI;X-ADDRESS=Parc Foresta 20 boulevard d'Hanoi Marseille 13015;X-APPLE-RADIUS=500;X-TITLE=20 boulevard d'Hanoi:geo:5.3559587,43.3579136
END:VEVENT
END:VCALENDAR