BEGIN:VCALENDAR
VERSION:2.0
PRODID:-//VIVANT 2020 - ECPv5.1.6//NONSGML v1.0//EN
CALSCALE:GREGORIAN
METHOD:PUBLISH
X-WR-CALNAME:VIVANT 2020
X-ORIGINAL-URL:https://www.vivant2020.com/?lang=en
X-WR-CALDESC:Events for VIVANT 2020
BEGIN:VTIMEZONE
TZID:Europe/Paris
BEGIN:DAYLIGHT
TZOFFSETFROM:+0100
TZOFFSETTO:+0200
TZNAME:CEST
DTSTART:20200329T010000
END:DAYLIGHT
BEGIN:STANDARD
TZOFFSETFROM:+0200
TZOFFSETTO:+0100
TZNAME:CET
DTSTART:20201025T010000
END:STANDARD
END:VTIMEZONE
BEGIN:VEVENT
DTSTART;VALUE=DATE:20200605
DTEND;VALUE=DATE:20200701
DTSTAMP:20260422T004937
CREATED:20200616T091152Z
LAST-MODIFIED:20200703T095722Z
UID:45167-1591315200-1593561599@www.vivant2020.com
SUMMARY:Des racines et des graines
DESCRIPTION:“Des racines et des graines\, journée artistique et culturelle pour grandir éco-responsable” vise à générer une dynamique territoriale autour de l’écosystème du collège JS Pons en développant un projet à la fois culturel\, social et environnemental. \nEn développant une approche plurielle d’éducation artistique et culturelle à la citoyenneté\, à la responsabilité\, au développement durable\, nous cherchons à potentialiser le réseau des élèves\, des familles et des habitants du quartier. \nPour cela nous nous appuyons sur plusieurs actions à la fois originales et fortement structurantes dans les murs de l’école\, son jardin participatif\, la pratique artistique sur des thématiques socioenvironnementales qui in fine permettront de réaliser des actions hors les murs en collaboration avec le tissu social et associatif du quartier\, un premier « rendez-vous de rue » étant prévu au printemps 2020. \nDes racines et des graines profite d’un territoire et d’individus riches de diversité. Nous serons les tuteurs d’un projet dont le tronc commun ne demande qu’à s’étoffer. \nSa force est d’essaimer des désirs d’agir à la fois sur le plan social et environnemental en potentialisant les énergies créatives des élèves en faveur de leur avenir\, en commençant par la création d’un groupe de réflexion ou même d’un lieu pour l’amélioration de leur cadre de vie. \nNe pouvant mener à bien ce projet cette année en raison de l’épidémie du Covid 19 et des mesures prises par le gouvernement \, nous vous invitons à  découvrir le travail des élèves avec le slameur Hassan Khaloufi\, les enregistrements réalisés avec l’association Beau Bruit\, quelques productions en arts plastiques qui y sont exposées sur le padlet. \nImage à la une : jardin pédagogique et collaboratif du collège JS Pons\, © Candice Delabre\nImage 1 : Atelier de prise de sons avec l’association “Beau bruit” qui est intervenue au collège JS Pons\, © Candice Delabre\nImage 2 : Exposition d’art plastique dans la cour du collège JS Pons\, © Candice Delabre\nImage 3 : Affiche par Chibane Samah
URL:https://www.vivant2020.com/event/des-racines-et-des-graines/?lang=en
LOCATION:Quartier du Haut Moyen Vernet\, 2 rue Diaz\, Perpignan\, 66000
CATEGORIES:Arts visuels,Ateliers,Famille,Littérature,Musique,Spectacle
ATTACH;FMTTYPE=image/jpeg:https://www.vivant2020.com/wp-content/uploads/2020/06/des-racines-et-des-graines-3-scaled.jpg
ORGANIZER;CN="Delabre":MAILTO:delabre@collegepons.fr
GEO:42.7168072;2.8898343
X-APPLE-STRUCTURED-LOCATION;VALUE=URI;X-ADDRESS=Quartier du Haut Moyen Vernet 2 rue Diaz Perpignan 66000;X-APPLE-RADIUS=500;X-TITLE=2 rue Diaz:geo:2.8898343,42.7168072
END:VEVENT
END:VCALENDAR