BEGIN:VCALENDAR
VERSION:2.0
PRODID:-//VIVANT 2020 - ECPv5.1.6//NONSGML v1.0//EN
CALSCALE:GREGORIAN
METHOD:PUBLISH
X-WR-CALNAME:VIVANT 2020
X-ORIGINAL-URL:https://www.vivant2020.com/?lang=en
X-WR-CALDESC:Events for VIVANT 2020
BEGIN:VTIMEZONE
TZID:Europe/Paris
BEGIN:DAYLIGHT
TZOFFSETFROM:+0100
TZOFFSETTO:+0200
TZNAME:CEST
DTSTART:20200329T010000
END:DAYLIGHT
BEGIN:STANDARD
TZOFFSETFROM:+0200
TZOFFSETTO:+0100
TZNAME:CET
DTSTART:20201025T010000
END:STANDARD
END:VTIMEZONE
BEGIN:VEVENT
DTSTART;TZID=Europe/Paris:20200411T103000
DTEND;TZID=Europe/Paris:20200411T123000
DTSTAMP:20260421T182906
CREATED:20200309T115102Z
LAST-MODIFIED:20200703T130237Z
UID:41333-1586601000-1586608200@www.vivant2020.com
SUMMARY:Concordanse sauvage
DESCRIPTION:En raison du contexte actuel\, l’exposition Concordanse sauvage a été annulée. L’espace d’art contemporain Arteppes vous communiquera de nouvelles dates très prochainement.  \nConcordanse sauvage est ce dialogue sensible qui se danse entre le monde animal et le végétal. Bercée par les courbures délicates d’une nature perpétuellement en mouvement l’exposition se vit et se dévoile\, avec harmonie\, à travers l’univers de deux femmes artistes\, Karine Bonneval et Sarah Battaglia. \n« La concordanse c’est le sel de la vie du sauvage\, ce qui rend passionnante son aventure sur terre. (…) Un anthropomorphisme de la symbiose. » Guillaume Logé\, Renaissance sauvage \n« Enlaçant ton ombre dans un rêve mes os se courbaient comme des fleurs » Alejandra Pizarnik\, Approximations\, Bueno Aires 1956-1958 \n« L’os inséré par la présence du fagot en céramique\, fait le lien entre végétal et êtres vertébrés. Dans mon imaginaire l’os est présent en forêt\, en sous-sol\, il fait le lien avec le royaume végétal. » Sarah Battaglia \n« Les plantes ont une manière d’être au monde différente de la nôtre. Comment bouger avec elles ? Comment être à l’écoute de ce qui se passe autour de nous\, mais aussi sous nos pieds ? » Karine Bonneval \nPlace limitées\, sur inscription au 04 50 57 56 55. Tout public. \nImage à la une : affiche de l’exposition
URL:https://www.vivant2020.com/event/concordanse-sauvage-4/?lang=en
LOCATION:L’Arteppes – espace d’art contemporain\, Centre Social Maison de l’Enfance Place des Rhododendrons\, Annecy\, 74000\, France
CATEGORIES:Family,Visual art,workshop
ATTACH;FMTTYPE=image/jpeg:https://www.vivant2020.com/wp-content/uploads/2020/03/affiche-Concordanse-Sauvage-web.jpg
ORGANIZER;CN="L%E2%80%99Arteppes%20%E2%80%93%20espace%20d%E2%80%99art%20contemporain":MAILTO:rsarteppes@lemikado.org
GEO:45.9186574;6.1279685
X-APPLE-STRUCTURED-LOCATION;VALUE=URI;X-ADDRESS=L’Arteppes – espace d’art contemporain Centre Social Maison de l’Enfance Place des Rhododendrons Annecy 74000 France;X-APPLE-RADIUS=500;X-TITLE=Centre Social Maison de l’Enfance Place des Rhododendrons:geo:6.1279685,45.9186574
END:VEVENT
END:VCALENDAR