BEGIN:VCALENDAR
VERSION:2.0
PRODID:-//VIVANT 2020 - ECPv5.1.6//NONSGML v1.0//EN
CALSCALE:GREGORIAN
METHOD:PUBLISH
X-WR-CALNAME:VIVANT 2020
X-ORIGINAL-URL:https://www.vivant2020.com
X-WR-CALDESC:évènements pour VIVANT 2020
BEGIN:VTIMEZONE
TZID:Europe/Paris
BEGIN:DAYLIGHT
TZOFFSETFROM:+0100
TZOFFSETTO:+0200
TZNAME:CEST
DTSTART:20200329T010000
END:DAYLIGHT
BEGIN:STANDARD
TZOFFSETFROM:+0200
TZOFFSETTO:+0100
TZNAME:CET
DTSTART:20201025T010000
END:STANDARD
END:VTIMEZONE
BEGIN:VEVENT
DTSTART;TZID=Europe/Paris:20200402T190000
DTEND;TZID=Europe/Paris:20200402T220000
DTSTAMP:20260421T231131
CREATED:20200311T113412Z
LAST-MODIFIED:20200703T130654Z
UID:36435-1585854000-1585864800@www.vivant2020.com
SUMMARY:BIVOUAC\, Penser l'écologie-monde
DESCRIPTION:La pensée environnementale\, prétendument universaliste\, s’est construite sur l’occultation des fondations coloniales\, patriarcales et esclavagistes de la modernité. \nPenser l’écologie-monde\, c’est comprendre comment impérialismes\, esclavagismes et destructions de paysages nouent le destin de tous les humains. \nCette soirée propose\, dans la lignée de la pensée de Malcom Ferdinand (politologue et ingénieur en environnement)\, de suivre quelques formes contemporaines autour des questions d’écologie en interrogeant les conséquences de la colonisation. \nAvec : Nathalie Muchamad\, artiste\, et Paula Barreiro Lopez\, historienne de l’art. \nImage à la une : © Image tirée du film « 125 hectare » de Florence Lazare\nImage 1 : affiche\, Magasin des Horizons
URL:https://www.vivant2020.com/event/bivouac-penser-lecologie-monde/
LOCATION:La Marmite\, Lotissement de l'Église\, Les Adrets\, 38190
CATEGORIES:Film
ATTACH;FMTTYPE=image/jpeg:https://www.vivant2020.com/wp-content/uploads/2020/02/FlorenceLazar_16-Zoom-180-scaled.jpg
ORGANIZER;CN="MAGASIN%20des%20horizons":MAILTO:contact@magasin-cnac.org
GEO:45.2788732;5.9407166
X-APPLE-STRUCTURED-LOCATION;VALUE=URI;X-ADDRESS=La Marmite Lotissement de l'Église Les Adrets 38190;X-APPLE-RADIUS=500;X-TITLE=Lotissement de l'Église:geo:5.9407166,45.2788732
END:VEVENT
END:VCALENDAR