BEGIN:VCALENDAR
VERSION:2.0
PRODID:-//VIVANT 2020 - ECPv5.1.6//NONSGML v1.0//EN
CALSCALE:GREGORIAN
METHOD:PUBLISH
X-WR-CALNAME:VIVANT 2020
X-ORIGINAL-URL:https://www.vivant2020.com/?lang=en
X-WR-CALDESC:Events for VIVANT 2020
BEGIN:VTIMEZONE
TZID:Europe/Paris
BEGIN:DAYLIGHT
TZOFFSETFROM:+0100
TZOFFSETTO:+0200
TZNAME:CEST
DTSTART:20200329T010000
END:DAYLIGHT
BEGIN:STANDARD
TZOFFSETFROM:+0200
TZOFFSETTO:+0100
TZNAME:CET
DTSTART:20201025T010000
END:STANDARD
END:VTIMEZONE
BEGIN:VEVENT
DTSTART;VALUE=DATE:20200601
DTEND;VALUE=DATE:20201101
DTSTAMP:20260421T120657
CREATED:20200310T150120Z
LAST-MODIFIED:20200703T101237Z
UID:41275-1590969600-1604188799@www.vivant2020.com
SUMMARY:BEAUX LIEUX
DESCRIPTION:Malgré le contexte actuel lié à la pandémie de COVID-19\, l’exposition BEAUX LIEUX est de nouveau accessible depuis le mois de juin\, et ce jusqu’à octobre 2020.  \nL’exposition BEAUX LIEUX est un parcours artistique qui vous entraîne à travers un village pittoresque et une nature remarquable\, pour une découverte ludique de créations contemporaines. \nDepuis le jardin public de Loches ou le centre historique de Beaulieu-lès-Loches\, découvrez la trentaine d’œuvres qui jalonne cette promenade. Cette année\, huit nouvelles œuvres rejoindront le parcours. Créées spécifiquement pour le lieu\, ces œuvres ont été imaginées autour du thème « Eau et Nature »\, une belle occasion de rendre hommage aux paysages du Sud Touraine. \nChaque année\, la création artistique est l’occasion de réunir des partenaires variés autour des artistes : scolaires\, jeunes en formation\, personnes en situation de handicap\, entreprises\, artisans\, associations locales et habitants. Ces rencontres marquantes pour toutes les générations sont le fruit de transmission de savoir-faire et de passion. \nEn famille ou entre amis\, laissez-vous tenter par une flânerie au milieu de paysages naturels et historiques et embarquez pour une balade artistique et poétique. \nImages : © Association B2X
URL:https://www.vivant2020.com/event/beaux-lieux/?lang=en
LOCATION:Parcours artistique BEAUX LIEUX – Association B2X\, 8 Place du maréchal leclerc\, Beaulieu-lès-Loches\, 37600\, France
CATEGORIES:Family,Visual art
ATTACH;FMTTYPE=image/jpeg:https://www.vivant2020.com/wp-content/uploads/2020/02/190531-Ghislain-1448.jpg
ORGANIZER;CN="Association%20B2X":MAILTO:b2x@laposte.net
GEO:47.1276767;1.0127666
X-APPLE-STRUCTURED-LOCATION;VALUE=URI;X-ADDRESS=Parcours artistique BEAUX LIEUX – Association B2X 8 Place du maréchal leclerc Beaulieu-lès-Loches 37600 France;X-APPLE-RADIUS=500;X-TITLE=8 Place du maréchal leclerc:geo:1.0127666,47.1276767
END:VEVENT
END:VCALENDAR