BEGIN:VCALENDAR
VERSION:2.0
PRODID:-//VIVANT 2020 - ECPv5.1.6//NONSGML v1.0//EN
CALSCALE:GREGORIAN
METHOD:PUBLISH
X-WR-CALNAME:VIVANT 2020
X-ORIGINAL-URL:https://www.vivant2020.com
X-WR-CALDESC:évènements pour VIVANT 2020
BEGIN:VTIMEZONE
TZID:Europe/Paris
BEGIN:DAYLIGHT
TZOFFSETFROM:+0100
TZOFFSETTO:+0200
TZNAME:CEST
DTSTART:20200329T010000
END:DAYLIGHT
BEGIN:STANDARD
TZOFFSETFROM:+0200
TZOFFSETTO:+0100
TZNAME:CET
DTSTART:20201025T010000
END:STANDARD
END:VTIMEZONE
BEGIN:VEVENT
DTSTART;VALUE=DATE:20200903
DTEND;VALUE=DATE:20201017
DTSTAMP:20260421T151352
CREATED:20200212T175725Z
LAST-MODIFIED:20200921T120406Z
UID:36504-1599091200-1602892799@www.vivant2020.com
SUMMARY:Aoriste
DESCRIPTION:Aoriste est une exposition de l’artiste Cécile Beau à la galerie Octave Cowbell à Metz. \nLes expériences visuelles et sonores de Cécile Beau déplacent le temps et l’espace\, proposent des territoires intermédiaires\, des entre-deux toujours étranges : sons et images interagissent dans des dispositifs qui révèlent souvent dans leur apparente banalité des anomalies\, des absences\, des espaces suspendus ou des environnements fictionnels. \nL’artiste fait intervenir végétaux et minéraux\, qu’elle mêle à toute une machinerie illusionniste pour recréer des phénomènes physiques spécifiques. Ceux-ci se voient « activés » dans des écosystèmes complexes prenant la forme de paysages souvent austères et énigmatiques. \nPour la galerie Octave Cowbell\, elle présente une sélection de pièces qui mettent en évidence des questions liées à l’environnement\, au climat et à la relation au vivant\, tout en privilégiant des moyens d’expressions actuels mêlant la technique et le numérique. \nDécouvrez le travail de Cécile Beau : www.cecilebeau.com \nImage à la une : © Cécile Beau\, Aoriste\, Roche volcanique\, dispositif sonore\, 25 x 47cm\, 2018\nImage 1 : © Cécile Beau\, Aoriste\, 2018\, roche volcanique dispositif sonore\, 25 x 47cm\nImage 2 : © Cécile Beau\, Meteors Ascendances\, 2016\, Cyanotypes\, 65 x 50 cm\nImage 3 : © Meteors ascendances\, Cecile Beau\, 2018\nImage 4 : © Cécile Beau\, Aoriste\, Roche volcanique\, dispositif sonore\, 2018
URL:https://www.vivant2020.com/event/aoriste/
LOCATION:Octave Cowbell\, 5 rue des Parmentiers\, Metz\, 57000\, France
CATEGORIES:Arts visuels
ATTACH;FMTTYPE=image/jpeg:https://www.vivant2020.com/wp-content/uploads/2020/02/AORISTE-CECILE-BEAU-OC-scaled.jpg
ORGANIZER;CN="Gandar%20Vanessa%20Directrice%20artistique":MAILTO:programmation@octavecowbell.fr
GEO:49.1158542;6.1770352
X-APPLE-STRUCTURED-LOCATION;VALUE=URI;X-ADDRESS=Octave Cowbell 5 rue des Parmentiers Metz 57000 France;X-APPLE-RADIUS=500;X-TITLE=5 rue des Parmentiers:geo:6.1770352,49.1158542
END:VEVENT
END:VCALENDAR